BEGIN:VCALENDAR
VERSION:2.0
PRODID:-//Subsecretaría de Telecomunicaciones de Chile - ECPv5.12.3//NONSGML v1.0//EN
CALSCALE:GREGORIAN
METHOD:PUBLISH
X-WR-CALNAME:Subsecretaría de Telecomunicaciones de Chile
X-ORIGINAL-URL:https://www.subtel.gob.cl
X-WR-CALDESC:Events for Subsecretaría de Telecomunicaciones de Chile
BEGIN:VTIMEZONE
TZID:America/Santiago
BEGIN:STANDARD
TZOFFSETFROM:-0300
TZOFFSETTO:-0400
TZNAME:-04
DTSTART:20130428T030000
END:STANDARD
BEGIN:DAYLIGHT
TZOFFSETFROM:-0400
TZOFFSETTO:-0300
TZNAME:-03
DTSTART:20130908T040000
END:DAYLIGHT
END:VTIMEZONE
BEGIN:VEVENT
DTSTART;TZID=America/Santiago:20130710T103000
DTEND;TZID=America/Santiago:20130710T110000
DTSTAMP:20260422T153328
CREATED:20150528T192806Z
LAST-MODIFIED:20150528T192806Z
UID:7527-1373452200-1373454000@www.subtel.gob.cl
SUMMARY:Saludo Protocolar a Delegación de la CNC Argentina
DESCRIPTION:
URL:https://www.subtel.gob.cl/evento/saludo-protocolar-a-delegacion-de-la-cnc-argentina/
END:VEVENT
BEGIN:VEVENT
DTSTART;TZID=America/Santiago:20130710T120000
DTEND;TZID=America/Santiago:20130710T123000
DTSTAMP:20260422T153328
CREATED:20150528T192806Z
LAST-MODIFIED:20150528T192806Z
UID:7528-1373457600-1373459400@www.subtel.gob.cl
SUMMARY:JEFE DIVISION CONCESIONES con CARLOS COCKBAINE de RADIO EXQUISITA XQD-027 LOCALIDAD VALDIVIA - SOLICITA INFORMACION
DESCRIPTION:10-julio-201311:00 a 11:30 horas \nJEFE DIVISION CONCESIONES con CARLOS COCKBAINE de RADIO EXQUISITA XQD-027 LOCALIDAD VALDIVIA – SOLICITA INFORMACION \nENOC ARAYA CASTILLO\, JEFE DIVISION CONCESIONES con CARLOS COCKBAINE\, REPRESENTANTE LEGAL de RADIO EXQUISITA XQD-027 LOCALIDAD VALDIVIA – RENOVACION DE RADIO XQD-027 LOCALIDAD VALDIVIA
URL:https://www.subtel.gob.cl/evento/jefe-division-concesiones-con-carlos-cockbaine-de-radio-exquisita-xqd-027-localidad-valdivia-solicita-informacion/
END:VEVENT
BEGIN:VEVENT
DTSTART;TZID=America/Santiago:20130710T123000
DTEND;TZID=America/Santiago:20130710T133000
DTSTAMP:20260422T153328
CREATED:20150528T192806Z
LAST-MODIFIED:20150528T192806Z
UID:7529-1373459400-1373463000@www.subtel.gob.cl
SUMMARY:Reunión con Sr. Juan Carlos Bulnes\, Subsecretario de Bienes Nacionales
DESCRIPTION:Proyecto IDE.
URL:https://www.subtel.gob.cl/evento/reunion-con-sr-juan-carlos-bulnes-subsecretario-de-bienes-nacionales/
END:VEVENT
END:VCALENDAR