BEGIN:VCALENDAR
VERSION:2.0
PRODID:-//Subsecretaría de Telecomunicaciones de Chile - ECPv5.12.3//NONSGML v1.0//EN
CALSCALE:GREGORIAN
METHOD:PUBLISH
X-WR-CALNAME:Subsecretaría de Telecomunicaciones de Chile
X-ORIGINAL-URL:https://www.subtel.gob.cl
X-WR-CALDESC:Events for Subsecretaría de Telecomunicaciones de Chile
BEGIN:VTIMEZONE
TZID:America/Santiago
BEGIN:STANDARD
TZOFFSETFROM:-0300
TZOFFSETTO:-0400
TZNAME:-04
DTSTART:20130428T030000
END:STANDARD
BEGIN:DAYLIGHT
TZOFFSETFROM:-0400
TZOFFSETTO:-0300
TZNAME:-03
DTSTART:20130908T040000
END:DAYLIGHT
END:VTIMEZONE
BEGIN:VEVENT
DTSTART;TZID=America/Santiago:20130708T113000
DTEND;TZID=America/Santiago:20130708T123000
DTSTAMP:20260422T193133
CREATED:20150528T192806Z
LAST-MODIFIED:20150528T192806Z
UID:7518-1373283000-1373286600@www.subtel.gob.cl
SUMMARY:Reunión con Sr. Gabriel Barrionuevo\, Presidente Asociación Chilena de Empresas de Call Center
DESCRIPTION:Alcances de suspender ventas de servicios o productos de telecomunicaciones y TV Cable.
URL:https://www.subtel.gob.cl/evento/reunion-con-sr-gabriel-barrionuevo-presidente-asociacion-chilena-de-empresas-de-call-center/
END:VEVENT
BEGIN:VEVENT
DTSTART;TZID=America/Santiago:20130708T123000
DTEND;TZID=America/Santiago:20130708T133000
DTSTAMP:20260422T193133
CREATED:20150528T192806Z
LAST-MODIFIED:20150528T192806Z
UID:7519-1373286600-1373290200@www.subtel.gob.cl
SUMMARY:Reunión con Sra. Pilar Cuevas\, Intendenta XI Región de Aysén
DESCRIPTION:Conectividad.
URL:https://www.subtel.gob.cl/evento/reunion-con-sra-pilar-cuevas-intendenta-xi-region-de-aysen/
END:VEVENT
BEGIN:VEVENT
DTSTART;TZID=America/Santiago:20130708T153000
DTEND;TZID=America/Santiago:20130708T160000
DTSTAMP:20260422T193133
CREATED:20150528T192806Z
LAST-MODIFIED:20150528T192806Z
UID:7520-1373297400-1373299200@www.subtel.gob.cl
SUMMARY:JEFE DIVISION CONCESIONES con JORGE VARGAS de RADIO SOMOS PICHILEMU - SOLICITA INFORMACION
DESCRIPTION:08-julio-201314:30 a 15:00 horas \nJEFE DIVISION CONCESIONES con JORGE VARGAS de RADIO SOMOS PICHILEMU – SOLICITA INFORMACION \nENOC ARAYA CASTILLO\, JEFE DIVISION CONCESIONES con JORGE VARGAS\, de RADIO SOMOS PICHILEMU – PLAZOS
URL:https://www.subtel.gob.cl/evento/jefe-division-concesiones-con-jorge-vargas-de-radio-somos-pichilemu-solicita-informacion/
END:VEVENT
BEGIN:VEVENT
DTSTART;TZID=America/Santiago:20130708T160000
DTEND;TZID=America/Santiago:20130708T163000
DTSTAMP:20260422T193133
CREATED:20150528T192806Z
LAST-MODIFIED:20150528T192806Z
UID:7521-1373299200-1373301000@www.subtel.gob.cl
SUMMARY:JEFE DIVISION CONCESIONES con JIMENA DEL VALLE  de ENTEL  - SOLICITA INFORMACION
DESCRIPTION:08-julio-201315:00 a 15:30 horas \nJEFE DIVISION CONCESIONES con JIMENA DEL VALLE de ENTEL – SOLICITA INFORMACION \nENOC ARAYA CASTILLO\, JEFE DIVISION CONCESIONES con JIMENA DEL VALLE \, JEFA CONCESIONES Y ESPECTRO REGULACION Y ASUNTOS CORPORATIVOS de ENTEL – SOLICITUDES PENDIENTES \n\nSE REFIERE A CONSULTAS POR TRAMITACIONES PENDIENTES DE MODIFICACION DE CONCESION SERVICIO PUBLICO TELEFONIA MOVIL LOS QUE DE ACUERDO A SU PERSPECTIVA HAN SUFRIDO ATRASOS\n\n 
URL:https://www.subtel.gob.cl/evento/jefe-division-concesiones-con-jimena-del-valle-de-entel-solicita-informacion/
END:VEVENT
BEGIN:VEVENT
DTSTART;TZID=America/Santiago:20130708T160000
DTEND;TZID=America/Santiago:20130708T163000
DTSTAMP:20260422T193133
CREATED:20150528T192806Z
LAST-MODIFIED:20150528T192806Z
UID:7522-1373299200-1373301000@www.subtel.gob.cl
SUMMARY:JEFE DIVISION CONCESIONES con JIMENA DEL VALLE de ENTEL  - SOLICITA INFORMACION
DESCRIPTION:08-julio-201315:00 a 15:30 horas \nJEFE DIVISION CONCESIONES con JIMENA DEL VALLE de ENTEL – SOLICITA INFORMACION \nENOC ARAYA CASTILLO\, JEFE DIVISION CONCESIONES con JIMENA DEL VALLE\, REGULACION Y ASUNTOS CORPORATIVOS de ENTEL – SOLICITUDES PENDIENTES
URL:https://www.subtel.gob.cl/evento/jefe-division-concesiones-con-jimena-del-valle-de-entel-solicita-informacion-2/
END:VEVENT
BEGIN:VEVENT
DTSTART;TZID=America/Santiago:20130708T160000
DTEND;TZID=America/Santiago:20130708T163000
DTSTAMP:20260422T193133
CREATED:20150528T192806Z
LAST-MODIFIED:20150528T192806Z
UID:7523-1373299200-1373301000@www.subtel.gob.cl
SUMMARY:Reunión con Diputada Marisol Turres
DESCRIPTION:
URL:https://www.subtel.gob.cl/evento/reunion-con-diputada-marisol-turres/
END:VEVENT
BEGIN:VEVENT
DTSTART;TZID=America/Santiago:20130708T183000
DTEND;TZID=America/Santiago:20130708T190000
DTSTAMP:20260422T193133
CREATED:20150528T192806Z
LAST-MODIFIED:20150528T192806Z
UID:7524-1373308200-1373310000@www.subtel.gob.cl
SUMMARY:Reunión con Chileactores
DESCRIPTION:Indicaciones a ley de TV Digital.
URL:https://www.subtel.gob.cl/evento/reunion-con-chileactores/
END:VEVENT
END:VCALENDAR