BEGIN:VCALENDAR
VERSION:2.0
PRODID:-//Subsecretaría de Telecomunicaciones de Chile - ECPv5.12.3//NONSGML v1.0//EN
CALSCALE:GREGORIAN
METHOD:PUBLISH
X-WR-CALNAME:Subsecretaría de Telecomunicaciones de Chile
X-ORIGINAL-URL:https://www.subtel.gob.cl
X-WR-CALDESC:Events for Subsecretaría de Telecomunicaciones de Chile
BEGIN:VTIMEZONE
TZID:America/Santiago
BEGIN:STANDARD
TZOFFSETFROM:-0300
TZOFFSETTO:-0400
TZNAME:-04
DTSTART:20130428T030000
END:STANDARD
BEGIN:DAYLIGHT
TZOFFSETFROM:-0400
TZOFFSETTO:-0300
TZNAME:-03
DTSTART:20130908T040000
END:DAYLIGHT
END:VTIMEZONE
BEGIN:VEVENT
DTSTART;TZID=America/Santiago:20130702T000000
DTEND;TZID=America/Santiago:20130703T000000
DTSTAMP:20260423T055211
CREATED:20150528T192806Z
LAST-MODIFIED:20150528T192806Z
UID:7512-1372723200-1372809600@www.subtel.gob.cl
SUMMARY:Extracto de Resolución Exenta N° 2.123 de 10.06.2013\, que asigna concesión de radiodifusión sonora para Nacimiento.
DESCRIPTION:Descargar Archivo
URL:https://www.subtel.gob.cl/evento/extracto-de-resolucion-exenta-n-2-123-de-10-06-2013-que-asigna-concesion-de-radiodifusion-sonora-para-nacimiento/
END:VEVENT
BEGIN:VEVENT
DTSTART;TZID=America/Santiago:20130703T170000
DTEND;TZID=America/Santiago:20130703T173000
DTSTAMP:20260423T055211
CREATED:20150528T192806Z
LAST-MODIFIED:20150528T192806Z
UID:7514-1372870800-1372872600@www.subtel.gob.cl
SUMMARY:Reunión con Sra. María Pía Matta\, AMARC
DESCRIPTION:Tema: Frecuencia AM
URL:https://www.subtel.gob.cl/evento/reunion-con-sra-maria-pia-matta-amarc/
END:VEVENT
END:VCALENDAR