BEGIN:VCALENDAR
VERSION:2.0
PRODID:-//Subsecretaría de Telecomunicaciones de Chile - ECPv5.12.3//NONSGML v1.0//EN
CALSCALE:GREGORIAN
METHOD:PUBLISH
X-WR-CALNAME:Subsecretaría de Telecomunicaciones de Chile
X-ORIGINAL-URL:https://www.subtel.gob.cl
X-WR-CALDESC:Events for Subsecretaría de Telecomunicaciones de Chile
BEGIN:VTIMEZONE
TZID:America/Santiago
BEGIN:STANDARD
TZOFFSETFROM:-0300
TZOFFSETTO:-0400
TZNAME:-04
DTSTART:20130428T030000
END:STANDARD
BEGIN:DAYLIGHT
TZOFFSETFROM:-0400
TZOFFSETTO:-0300
TZNAME:-03
DTSTART:20130908T040000
END:DAYLIGHT
END:VTIMEZONE
BEGIN:VEVENT
DTSTART;TZID=America/Santiago:20130626T000000
DTEND;TZID=America/Santiago:20130627T000000
DTSTAMP:20260423T192326
CREATED:20150528T192806Z
LAST-MODIFIED:20150528T192806Z
UID:7508-1372204800-1372291200@www.subtel.gob.cl
SUMMARY:Extracto 13-RD 25496 de solicitud de modificación de concesión de radiodifusión sonora\, XQD-468\, para Victoria\, IX Región.
DESCRIPTION:Descargar Archivo
URL:https://www.subtel.gob.cl/evento/extracto-13-rd-25496-de-solicitud-de-modificacion-de-concesion-de-radiodifusion-sonora-xqd-468-para-victoria-ix-region/
END:VEVENT
BEGIN:VEVENT
DTSTART;TZID=America/Santiago:20130626T090000
DTEND;TZID=America/Santiago:20130628T180000
DTSTAMP:20260423T192326
CREATED:20150528T192806Z
LAST-MODIFIED:20150528T192806Z
UID:7509-1372237200-1372442400@www.subtel.gob.cl
SUMMARY:Orador en evento "Revolución Móvil Latinoamericana 2013"\, Buenos Aires\, Argentina
DESCRIPTION:
URL:https://www.subtel.gob.cl/evento/orador-en-evento-revolucion-movil-latinoamericana-2013-buenos-aires-argentina/
END:VEVENT
END:VCALENDAR