BEGIN:VCALENDAR
VERSION:2.0
PRODID:-//Subsecretaría de Telecomunicaciones de Chile - ECPv5.12.3//NONSGML v1.0//EN
CALSCALE:GREGORIAN
METHOD:PUBLISH
X-WR-CALNAME:Subsecretaría de Telecomunicaciones de Chile
X-ORIGINAL-URL:https://www.subtel.gob.cl
X-WR-CALDESC:Events for Subsecretaría de Telecomunicaciones de Chile
BEGIN:VTIMEZONE
TZID:America/Santiago
BEGIN:STANDARD
TZOFFSETFROM:-0300
TZOFFSETTO:-0400
TZNAME:-04
DTSTART:20130428T030000
END:STANDARD
BEGIN:DAYLIGHT
TZOFFSETFROM:-0400
TZOFFSETTO:-0300
TZNAME:-03
DTSTART:20130908T040000
END:DAYLIGHT
END:VTIMEZONE
BEGIN:VEVENT
DTSTART;TZID=America/Santiago:20130620T103000
DTEND;TZID=America/Santiago:20130620T120000
DTSTAMP:20260424T070827
CREATED:20150528T192806Z
LAST-MODIFIED:20150528T192806Z
UID:7502-1371724200-1371729600@www.subtel.gob.cl
SUMMARY:Charla DUOC "Semana de las Telecomunicaciones" Sede Plaza Oeste
DESCRIPTION:
URL:https://www.subtel.gob.cl/evento/charla-duoc-semana-de-las-telecomunicaciones-sede-plaza-oeste/
END:VEVENT
BEGIN:VEVENT
DTSTART;TZID=America/Santiago:20130620T200000
DTEND;TZID=America/Santiago:20130620T220000
DTSTAMP:20260424T070827
CREATED:20150528T192806Z
LAST-MODIFIED:20150528T192806Z
UID:7503-1371758400-1371765600@www.subtel.gob.cl
SUMMARY:Cena de la Innovación 2013 ACTI
DESCRIPTION:
URL:https://www.subtel.gob.cl/evento/cena-de-la-innovacion-2013-acti/
END:VEVENT
END:VCALENDAR