BEGIN:VCALENDAR
VERSION:2.0
PRODID:-//Subsecretaría de Telecomunicaciones de Chile - ECPv5.12.3//NONSGML v1.0//EN
CALSCALE:GREGORIAN
METHOD:PUBLISH
X-WR-CALNAME:Subsecretaría de Telecomunicaciones de Chile
X-ORIGINAL-URL:https://www.subtel.gob.cl
X-WR-CALDESC:Events for Subsecretaría de Telecomunicaciones de Chile
BEGIN:VTIMEZONE
TZID:America/Santiago
BEGIN:STANDARD
TZOFFSETFROM:-0300
TZOFFSETTO:-0400
TZNAME:-04
DTSTART:20130428T030000
END:STANDARD
BEGIN:DAYLIGHT
TZOFFSETFROM:-0400
TZOFFSETTO:-0300
TZNAME:-03
DTSTART:20130908T040000
END:DAYLIGHT
END:VTIMEZONE
BEGIN:VEVENT
DTSTART;TZID=America/Santiago:20130614T000000
DTEND;TZID=America/Santiago:20130615T000000
DTSTAMP:20260424T182928
CREATED:20150528T192805Z
LAST-MODIFIED:20150528T192805Z
UID:7496-1371168000-1371254400@www.subtel.gob.cl
SUMMARY:Extracto de Resolución Exenta Nº 1.831\, de 22.05.2013\, que asigna concesión de radiodifusión sonora para la Localidad de Los Loros.
DESCRIPTION:Descargar Archivo
URL:https://www.subtel.gob.cl/evento/extracto-de-resolucion-exenta-no-1-831-de-22-05-2013-que-asigna-concesion-de-radiodifusion-sonora-para-la-localidad-de-los-loros/
END:VEVENT
END:VCALENDAR