BEGIN:VCALENDAR
VERSION:2.0
PRODID:-//Subsecretaría de Telecomunicaciones de Chile - ECPv5.12.3//NONSGML v1.0//EN
CALSCALE:GREGORIAN
METHOD:PUBLISH
X-WR-CALNAME:Subsecretaría de Telecomunicaciones de Chile
X-ORIGINAL-URL:https://www.subtel.gob.cl
X-WR-CALDESC:Events for Subsecretaría de Telecomunicaciones de Chile
BEGIN:VTIMEZONE
TZID:America/Santiago
BEGIN:STANDARD
TZOFFSETFROM:-0300
TZOFFSETTO:-0400
TZNAME:-04
DTSTART:20130428T030000
END:STANDARD
BEGIN:DAYLIGHT
TZOFFSETFROM:-0400
TZOFFSETTO:-0300
TZNAME:-03
DTSTART:20130908T040000
END:DAYLIGHT
END:VTIMEZONE
BEGIN:VEVENT
DTSTART;TZID=America/Santiago:20130704T130000
DTEND;TZID=America/Santiago:20130704T140000
DTSTAMP:20260423T062010
CREATED:20150528T192806Z
LAST-MODIFIED:20150528T192806Z
UID:7515-1372942800-1372946400@www.subtel.gob.cl
SUMMARY:Reunión con Sres. Leonardo Basso y Marcos Díaz\, Facultad de Ciencias Físicas y Matemáticas\, Universidad de Chile
DESCRIPTION:
URL:https://www.subtel.gob.cl/evento/reunion-con-sres-leonardo-basso-y-marcos-diaz-facultad-de-ciencias-fisicas-y-matematicas-universidad-de-chile/
END:VEVENT
END:VCALENDAR