BEGIN:VCALENDAR
VERSION:2.0
PRODID:-//Subsecretaría de Telecomunicaciones de Chile - ECPv5.12.3//NONSGML v1.0//EN
CALSCALE:GREGORIAN
METHOD:PUBLISH
X-WR-CALNAME:Subsecretaría de Telecomunicaciones de Chile
X-ORIGINAL-URL:https://www.subtel.gob.cl
X-WR-CALDESC:Events for Subsecretaría de Telecomunicaciones de Chile
BEGIN:VTIMEZONE
TZID:America/Santiago
BEGIN:STANDARD
TZOFFSETFROM:-0300
TZOFFSETTO:-0400
TZNAME:-04
DTSTART:20130428T030000
END:STANDARD
BEGIN:DAYLIGHT
TZOFFSETFROM:-0400
TZOFFSETTO:-0300
TZNAME:-03
DTSTART:20130908T040000
END:DAYLIGHT
END:VTIMEZONE
BEGIN:VEVENT
DTSTART;TZID=America/Santiago:20130719T110000
DTEND;TZID=America/Santiago:20130719T120000
DTSTAMP:20260423T073532
CREATED:20150528T192807Z
LAST-MODIFIED:20150528T192807Z
UID:7543-1374231600-1374235200@www.subtel.gob.cl
SUMMARY:Reunión con Sr. Luis Parto\, Presidente ARCHI
DESCRIPTION:Tema: Transferencia Plan Migración de Radios.
URL:https://www.subtel.gob.cl/evento/reunion-con-sr-luis-parto-presidente-archi/
END:VEVENT
END:VCALENDAR