BEGIN:VCALENDAR
VERSION:2.0
PRODID:-//Subsecretaría de Telecomunicaciones de Chile - ECPv5.12.3//NONSGML v1.0//EN
CALSCALE:GREGORIAN
METHOD:PUBLISH
X-WR-CALNAME:Subsecretaría de Telecomunicaciones de Chile
X-ORIGINAL-URL:https://www.subtel.gob.cl
X-WR-CALDESC:Events for Subsecretaría de Telecomunicaciones de Chile
BEGIN:VTIMEZONE
TZID:America/Santiago
BEGIN:STANDARD
TZOFFSETFROM:-0300
TZOFFSETTO:-0400
TZNAME:-04
DTSTART:20130428T030000
END:STANDARD
BEGIN:DAYLIGHT
TZOFFSETFROM:-0400
TZOFFSETTO:-0300
TZNAME:-03
DTSTART:20130908T040000
END:DAYLIGHT
END:VTIMEZONE
BEGIN:VEVENT
DTSTART;TZID=America/Santiago:20130606T113000
DTEND;TZID=America/Santiago:20130606T123000
DTSTAMP:20260425T124050
CREATED:20150528T192805Z
LAST-MODIFIED:20150528T192805Z
UID:7484-1370518200-1370521800@www.subtel.gob.cl
SUMMARY:Reunión con Sr. José Antonio Pellegrini\, Director General Thales
DESCRIPTION:Política Satelital de Chile.
URL:https://www.subtel.gob.cl/evento/reunion-con-sr-jose-antonio-pellegrini-director-general-thales/
END:VEVENT
END:VCALENDAR