BEGIN:VCALENDAR
VERSION:2.0
PRODID:-//Subsecretaría de Telecomunicaciones de Chile - ECPv5.12.3//NONSGML v1.0//EN
CALSCALE:GREGORIAN
METHOD:PUBLISH
X-WR-CALNAME:Subsecretaría de Telecomunicaciones de Chile
X-ORIGINAL-URL:https://www.subtel.gob.cl
X-WR-CALDESC:Events for Subsecretaría de Telecomunicaciones de Chile
BEGIN:VTIMEZONE
TZID:America/Santiago
BEGIN:STANDARD
TZOFFSETFROM:-0300
TZOFFSETTO:-0400
TZNAME:-04
DTSTART:20130428T030000
END:STANDARD
BEGIN:DAYLIGHT
TZOFFSETFROM:-0400
TZOFFSETTO:-0300
TZNAME:-03
DTSTART:20130908T040000
END:DAYLIGHT
END:VTIMEZONE
BEGIN:VEVENT
DTSTART;TZID=America/Santiago:20130606T180000
DTEND;TZID=America/Santiago:20130606T180000
DTSTAMP:20260425T121556
CREATED:20150528T192805Z
LAST-MODIFIED:20150528T192805Z
UID:7487-1370541600-1370541600@www.subtel.gob.cl
SUMMARY:Reunión con Sr. Jimmy Ureta\, Junta de Vecinos de Puente Alto
DESCRIPTION:Tema Conectividad a internet en sectores vulnerables.
URL:https://www.subtel.gob.cl/evento/reunion-con-sr-jimmy-ureta-junta-de-vecinos-de-puente-alto/
END:VEVENT
END:VCALENDAR