BEGIN:VCALENDAR
VERSION:2.0
PRODID:-//Subsecretaría de Telecomunicaciones de Chile - ECPv5.12.3//NONSGML v1.0//EN
CALSCALE:GREGORIAN
METHOD:PUBLISH
X-WR-CALNAME:Subsecretaría de Telecomunicaciones de Chile
X-ORIGINAL-URL:https://www.subtel.gob.cl
X-WR-CALDESC:Events for Subsecretaría de Telecomunicaciones de Chile
BEGIN:VTIMEZONE
TZID:America/Santiago
BEGIN:STANDARD
TZOFFSETFROM:-0300
TZOFFSETTO:-0400
TZNAME:-04
DTSTART:20260405T030000
END:STANDARD
BEGIN:DAYLIGHT
TZOFFSETFROM:-0400
TZOFFSETTO:-0300
TZNAME:-03
DTSTART:20260906T040000
END:DAYLIGHT
END:VTIMEZONE
BEGIN:VEVENT
DTSTART;VALUE=DATE:20260420
DTEND;VALUE=DATE:20260421
DTSTAMP:20260421T034614
CREATED:20260420T113048Z
LAST-MODIFIED:20260413T164319Z
UID:47321-1776643200-1776729599@www.subtel.gob.cl
SUMMARY:Radiodifusión-Extracto de Resolución Exenta N°2.260 de 2025\, que asigna concesión de radiodifusión sonora en  Frecuencia Modulada para la localidad de Cañete (96\,5 MHz)\, Región del Biobío\, Concurso FM 2-2023
DESCRIPTION:Res Ex N°2260_2025
URL:https://www.subtel.gob.cl/evento/radiodifusion-extracto-de-resolucion-exenta-n2-260-de-2025-que-asigna-concesion-de-radiodifusion-sonora-en-frecuencia-modulada-para-la-localidad-de-canete-965-mhz-region-del-biobio-concur/
END:VEVENT
END:VCALENDAR