BEGIN:VCALENDAR
VERSION:2.0
PRODID:-//Subsecretaría de Telecomunicaciones de Chile - ECPv5.12.3//NONSGML v1.0//EN
CALSCALE:GREGORIAN
METHOD:PUBLISH
X-WR-CALNAME:Subsecretaría de Telecomunicaciones de Chile
X-ORIGINAL-URL:https://www.subtel.gob.cl
X-WR-CALDESC:Events for Subsecretaría de Telecomunicaciones de Chile
BEGIN:VTIMEZONE
TZID:America/Santiago
BEGIN:STANDARD
TZOFFSETFROM:-0300
TZOFFSETTO:-0400
TZNAME:-04
DTSTART:20130428T030000
END:STANDARD
BEGIN:DAYLIGHT
TZOFFSETFROM:-0400
TZOFFSETTO:-0300
TZNAME:-03
DTSTART:20130908T040000
END:DAYLIGHT
END:VTIMEZONE
BEGIN:VEVENT
DTSTART;TZID=America/Santiago:20130606T170000
DTEND;TZID=America/Santiago:20130606T180000
DTSTAMP:20260425T120022
CREATED:20150528T192805Z
LAST-MODIFIED:20150528T192805Z
UID:7486-1370538000-1370541600@www.subtel.gob.cl
SUMMARY:JEFE DIVISION JURIDICA con DOMINGO SANDOVAL de   - FISCALIZACION RADIO
DESCRIPTION:06-junio-2013 16:00 a 17:00 horas JEFE DIVISION JURIDICA con DOMINGO SANDOVAL de – FISCALIZACION RADIO ROBERTO VON BENNEWITZ\, JEFE DIVISION JURIDICA con DOMINGO SANDOVAL\, RADIODIFUSOR de – FISCALIZACION RADIO \n\nSe  respondieron consultas en torno al régimen legal aplicable a la cesión temporal del uso y explotación de concesiones de radiodifusión sonora.
URL:https://www.subtel.gob.cl/evento/jefe-division-juridica-con-domingo-sandoval-de-fiscalizacion-radio/
END:VEVENT
END:VCALENDAR