BEGIN:VCALENDAR
VERSION:2.0
PRODID:-//Subsecretaría de Telecomunicaciones de Chile - ECPv5.12.3//NONSGML v1.0//EN
CALSCALE:GREGORIAN
METHOD:PUBLISH
X-WR-CALNAME:Subsecretaría de Telecomunicaciones de Chile
X-ORIGINAL-URL:https://www.subtel.gob.cl
X-WR-CALDESC:Events for Subsecretaría de Telecomunicaciones de Chile
BEGIN:VTIMEZONE
TZID:America/Santiago
BEGIN:STANDARD
TZOFFSETFROM:-0300
TZOFFSETTO:-0400
TZNAME:-04
DTSTART:20130428T030000
END:STANDARD
BEGIN:DAYLIGHT
TZOFFSETFROM:-0400
TZOFFSETTO:-0300
TZNAME:-03
DTSTART:20130908T040000
END:DAYLIGHT
END:VTIMEZONE
BEGIN:VEVENT
DTSTART;TZID=America/Santiago:20130704T160000
DTEND;TZID=America/Santiago:20130704T163000
DTSTAMP:20260423T055751
CREATED:20150528T192806Z
LAST-MODIFIED:20150528T192806Z
UID:7516-1372953600-1372955400@www.subtel.gob.cl
SUMMARY:JEFE DIVISION CONCESIONES con MARCELO BARRIGA de TELEFONICA DEL SUR  - SOLICITA INFORMACION.
DESCRIPTION:04-julio-201315:00 a 15:30 horas \nJEFE DIVISION CONCESIONES con MARCELO BARRIGA de TELEFONICA DEL SUR – SOLICITA INFORMACION. \nENOC ARAYA CASTILLO\, JEFE DIVISION CONCESIONES con MARCELO BARRIGA\, JEFE DEPARTAMENTO REGULACION de TELEFONICA DEL SUR – MODIFICACION DE CONCESION CON USO DE FRECUENCIA BANDA DE 8.
URL:https://www.subtel.gob.cl/evento/jefe-division-concesiones-con-marcelo-barriga-de-telefonica-del-sur-solicita-informacion/
END:VEVENT
END:VCALENDAR