BEGIN:VCALENDAR
VERSION:2.0
PRODID:-//Subsecretaría de Telecomunicaciones de Chile - ECPv5.12.3//NONSGML v1.0//EN
CALSCALE:GREGORIAN
METHOD:PUBLISH
X-WR-CALNAME:Subsecretaría de Telecomunicaciones de Chile
X-ORIGINAL-URL:https://www.subtel.gob.cl
X-WR-CALDESC:Events for Subsecretaría de Telecomunicaciones de Chile
BEGIN:VTIMEZONE
TZID:America/Santiago
BEGIN:STANDARD
TZOFFSETFROM:-0300
TZOFFSETTO:-0400
TZNAME:-04
DTSTART:20130428T030000
END:STANDARD
BEGIN:DAYLIGHT
TZOFFSETFROM:-0400
TZOFFSETTO:-0300
TZNAME:-03
DTSTART:20130908T040000
END:DAYLIGHT
END:VTIMEZONE
BEGIN:VEVENT
DTSTART;TZID=America/Santiago:20130711T110000
DTEND;TZID=America/Santiago:20130711T113000
DTSTAMP:20260422T155237
CREATED:20150528T192807Z
LAST-MODIFIED:20150528T192807Z
UID:7532-1373540400-1373542200@www.subtel.gob.cl
SUMMARY:JEFE DIVISION CONCESIONES con LUIS DROGUETT ZAMORANO de AGRINARE CHILE - RADIOS COMUNITARIAS
DESCRIPTION:11-julio-201310:00 a 10:30 horas \nJEFE DIVISION CONCESIONES con LUIS DROGUETT ZAMORANO de AGRINARE CHILE – RADIOS COMUNITARIAS \nENOC ARAYA CASTILLO\, JEFE DIVISION CONCESIONES con LUIS DROGUETT ZAMORANO\, PRESIDENTE de AGRINARE CHILE – PLANTEAMIENTO SOBRE RADIOS COMUNITARIAS \n\nEL SR DROGUETT NO SE PRESENTO A LA REUNION
URL:https://www.subtel.gob.cl/evento/jefe-division-concesiones-con-luis-droguett-zamorano-de-agrinare-chile-radios-comunitarias/
END:VEVENT
END:VCALENDAR