BEGIN:VCALENDAR
VERSION:2.0
PRODID:-//Subsecretaría de Telecomunicaciones de Chile - ECPv5.12.3//NONSGML v1.0//EN
CALSCALE:GREGORIAN
METHOD:PUBLISH
X-WR-CALNAME:Subsecretaría de Telecomunicaciones de Chile
X-ORIGINAL-URL:https://www.subtel.gob.cl
X-WR-CALDESC:Events for Subsecretaría de Telecomunicaciones de Chile
BEGIN:VTIMEZONE
TZID:America/Santiago
BEGIN:STANDARD
TZOFFSETFROM:-0300
TZOFFSETTO:-0400
TZNAME:-04
DTSTART:20130428T030000
END:STANDARD
BEGIN:DAYLIGHT
TZOFFSETFROM:-0400
TZOFFSETTO:-0300
TZNAME:-03
DTSTART:20130908T040000
END:DAYLIGHT
END:VTIMEZONE
BEGIN:VEVENT
DTSTART;TZID=America/Santiago:20130619T110000
DTEND;TZID=America/Santiago:20130619T113000
DTSTAMP:20260424T110422
CREATED:20150528T192806Z
LAST-MODIFIED:20150528T192806Z
UID:7500-1371639600-1371641400@www.subtel.gob.cl
SUMMARY:JEFE DIVISION CONCESIONES con  de ROKET CHILE - SOLICITA INFORMACION
DESCRIPTION:ENOC ARAYA CASTILLO\, JEFE DIVISION CONCESIONES con \,  de ROKET CHILE – CONCESION DE SERVICIO PUBLICO DE TRANSMISION DE DATOS \n10:00 a 10:30 horas \n\nSOBRE TRAMITACION DE AUTORIZACIONES PARA OFRECER SERVICIOS DE TRANSMISION DE DATOS EN PARTICULAR INTERNET A TRAVES DE MEDIOS INALAMBRICOS\n\n  \n  \n 
URL:https://www.subtel.gob.cl/evento/jefe-division-concesiones-con-de-roket-chile-solicita-informacion/
END:VEVENT
END:VCALENDAR