BEGIN:VCALENDAR
VERSION:2.0
PRODID:-//Subsecretaría de Telecomunicaciones de Chile - ECPv5.12.3//NONSGML v1.0//EN
CALSCALE:GREGORIAN
METHOD:PUBLISH
X-WR-CALNAME:Subsecretaría de Telecomunicaciones de Chile
X-ORIGINAL-URL:https://www.subtel.gob.cl
X-WR-CALDESC:Events for Subsecretaría de Telecomunicaciones de Chile
BEGIN:VTIMEZONE
TZID:America/Santiago
BEGIN:STANDARD
TZOFFSETFROM:-0300
TZOFFSETTO:-0400
TZNAME:-04
DTSTART:20160515T030000
END:STANDARD
BEGIN:DAYLIGHT
TZOFFSETFROM:-0400
TZOFFSETTO:-0300
TZNAME:-03
DTSTART:20160814T040000
END:DAYLIGHT
END:VTIMEZONE
BEGIN:VEVENT
DTSTART;TZID=America/Santiago:20160226T080000
DTEND;TZID=America/Santiago:20160226T170000
DTSTAMP:20260424T202211
CREATED:20160226T130955Z
LAST-MODIFIED:20160226T130955Z
UID:12590-1456473600-1456506000@www.subtel.gob.cl
SUMMARY:Extracto Resolución Exenta N° 330 de 2016\, que asigna concesión de radiodifusión sonora en Frecuencia Modulada\, para la localidad de Chile Chico\, XI Región.
DESCRIPTION:Descargar_Res 330-2016 FM Chile Chico
URL:https://www.subtel.gob.cl/evento/extracto-resolucion-exenta-n-330-de-2016-que-asigna-concesion-de-radiodifusion-sonora-en-frecuencia-modulada-para-la-localidad-de-chile-chico-xi-region/
END:VEVENT
END:VCALENDAR