BEGIN:VCALENDAR
VERSION:2.0
PRODID:-//Subsecretaría de Telecomunicaciones de Chile - ECPv5.12.3//NONSGML v1.0//EN
CALSCALE:GREGORIAN
METHOD:PUBLISH
X-WR-CALNAME:Subsecretaría de Telecomunicaciones de Chile
X-ORIGINAL-URL:https://www.subtel.gob.cl
X-WR-CALDESC:Events for Subsecretaría de Telecomunicaciones de Chile
BEGIN:VTIMEZONE
TZID:America/Santiago
BEGIN:STANDARD
TZOFFSETFROM:-0300
TZOFFSETTO:-0400
TZNAME:-04
DTSTART:20160515T030000
END:STANDARD
BEGIN:DAYLIGHT
TZOFFSETFROM:-0400
TZOFFSETTO:-0300
TZNAME:-03
DTSTART:20160814T040000
END:DAYLIGHT
END:VTIMEZONE
BEGIN:VEVENT
DTSTART;TZID=America/Santiago:20160216T080000
DTEND;TZID=America/Santiago:20160216T170000
DTSTAMP:20260426T001245
CREATED:20160216T122426Z
LAST-MODIFIED:20160219T111351Z
UID:12503-1455609600-1455642000@www.subtel.gob.cl
SUMMARY:Extracto Resolución Exenta N° 177 de 2016\, que asigna concesión de radiodifusión sonora en Frecuencia Modulada\, localidad de Molina\, VII Región.
DESCRIPTION:Descargar_Res 177-2016
URL:https://www.subtel.gob.cl/evento/extracto-resolucion-exenta-n-177-de-2016-que-asigna-concesion-de-radiodifusion-sonora-en-frecuencia-modulada-localidad-de-molina-vii-region/
END:VEVENT
END:VCALENDAR