BEGIN:VCALENDAR
VERSION:2.0
PRODID:-//Subsecretaría de Telecomunicaciones de Chile - ECPv5.12.3//NONSGML v1.0//EN
CALSCALE:GREGORIAN
METHOD:PUBLISH
X-WR-CALNAME:Subsecretaría de Telecomunicaciones de Chile
X-ORIGINAL-URL:https://www.subtel.gob.cl
X-WR-CALDESC:Events for Subsecretaría de Telecomunicaciones de Chile
BEGIN:VTIMEZONE
TZID:America/Santiago
BEGIN:STANDARD
TZOFFSETFROM:-0300
TZOFFSETTO:-0400
TZNAME:-04
DTSTART:20160515T030000
END:STANDARD
BEGIN:DAYLIGHT
TZOFFSETFROM:-0400
TZOFFSETTO:-0300
TZNAME:-03
DTSTART:20160814T040000
END:DAYLIGHT
END:VTIMEZONE
BEGIN:VEVENT
DTSTART;VALUE=DATE:20160405
DTEND;VALUE=DATE:20160406
DTSTAMP:20260425T065937
CREATED:20160405T120539Z
LAST-MODIFIED:20160405T120539Z
UID:12862-1459814400-1459900799@www.subtel.gob.cl
SUMMARY:Extracto de Resolución Exenta Nº 713\, de 08.03.2016\, que asigna concesión de radiodifusión sonora para la localidad de Canela.
DESCRIPTION:Descargar Archivo Res. 713-2016
URL:https://www.subtel.gob.cl/evento/extracto-de-resolucion-exenta-no-713-de-08-03-2016-que-asigna-concesion-de-radiodifusion-sonora-para-la-localidad-de-canela/
END:VEVENT
END:VCALENDAR