BEGIN:VCALENDAR
VERSION:2.0
PRODID:-//Subsecretaría de Telecomunicaciones de Chile - ECPv5.12.3//NONSGML v1.0//EN
CALSCALE:GREGORIAN
METHOD:PUBLISH
X-WR-CALNAME:Subsecretaría de Telecomunicaciones de Chile
X-ORIGINAL-URL:https://www.subtel.gob.cl
X-WR-CALDESC:Events for Subsecretaría de Telecomunicaciones de Chile
BEGIN:VTIMEZONE
TZID:America/Santiago
BEGIN:DAYLIGHT
TZOFFSETFROM:-0300
TZOFFSETTO:-0300
TZNAME:-03
DTSTART:20150101T000000
END:DAYLIGHT
END:VTIMEZONE
BEGIN:VEVENT
DTSTART;VALUE=DATE:20150902
DTEND;VALUE=DATE:20150903
DTSTAMP:20260423T172958
CREATED:20150902T105341Z
LAST-MODIFIED:20150902T105341Z
UID:10299-1441152000-1441238399@www.subtel.gob.cl
SUMMARY:Extracto de Resolución Exenta Nº 4879 de 24.08.2015\, que asigna concesión de radiodifusión Comunitaria Ciudadana\, para la comuna de Malloa.
DESCRIPTION:Descargar Archivo Res 4879-2015
URL:https://www.subtel.gob.cl/evento/extracto-de-resolucion-exenta-no-4879-de-24-08-2015-que-asigna-concesion-de-radiodifusion-comunitaria-ciudadana-para-la-comuna-de-malloa/
END:VEVENT
END:VCALENDAR