BEGIN:VCALENDAR
VERSION:2.0
PRODID:-//Subsecretaría de Telecomunicaciones de Chile - ECPv5.12.3//NONSGML v1.0//EN
CALSCALE:GREGORIAN
METHOD:PUBLISH
X-WR-CALNAME:Subsecretaría de Telecomunicaciones de Chile
X-ORIGINAL-URL:https://www.subtel.gob.cl
X-WR-CALDESC:Events for Subsecretaría de Telecomunicaciones de Chile
BEGIN:VTIMEZONE
TZID:America/Santiago
BEGIN:DAYLIGHT
TZOFFSETFROM:-0300
TZOFFSETTO:-0300
TZNAME:-03
DTSTART:20150101T000000
END:DAYLIGHT
END:VTIMEZONE
BEGIN:VEVENT
DTSTART;VALUE=DATE:20150811
DTEND;VALUE=DATE:20150812
DTSTAMP:20260422T141842
CREATED:20150811T124753Z
LAST-MODIFIED:20150811T124753Z
UID:9733-1439251200-1439337599@www.subtel.gob.cl
SUMMARY:Extracto de Resolución Exenta Nº 3.724\, de 10.06.2015\, que rectifica Resolución Exenta Nº 4.003\, de 06.11.2014\, que asigna concesión de radiodifusión sonora para El Salado.
DESCRIPTION:Descargar Archivo Res.3724-2015
URL:https://www.subtel.gob.cl/evento/extracto-de-resolucion-exenta-no-3-724-de-10-06-2015-que-rectifica-resolucion-exenta-no-4-003-de-06-11-2014-que-asigna-concesion-de-radiodifusion-sonora-para-el-salado/
END:VEVENT
END:VCALENDAR