BEGIN:VCALENDAR
VERSION:2.0
PRODID:-//Subsecretaría de Telecomunicaciones de Chile - ECPv5.12.3//NONSGML v1.0//EN
CALSCALE:GREGORIAN
METHOD:PUBLISH
X-WR-CALNAME:Subsecretaría de Telecomunicaciones de Chile
X-ORIGINAL-URL:https://www.subtel.gob.cl
X-WR-CALDESC:Events for Subsecretaría de Telecomunicaciones de Chile
BEGIN:VTIMEZONE
TZID:America/Santiago
BEGIN:DAYLIGHT
TZOFFSETFROM:-0300
TZOFFSETTO:-0300
TZNAME:-03
DTSTART:20150101T000000
END:DAYLIGHT
END:VTIMEZONE
BEGIN:VEVENT
DTSTART;TZID=America/Santiago:20151015T080000
DTEND;TZID=America/Santiago:20151015T170000
DTSTAMP:20260425T084640
CREATED:20151015T140351Z
LAST-MODIFIED:20151015T143132Z
UID:10749-1444896000-1444928400@www.subtel.gob.cl
SUMMARY:Extracto de Resolución Exenta N° 5371 de 28.09.2015\, que declaró desierto el concurso público de Radiodifusión Sonora correspondiente al Tercer Cuatrimestre de 2014 en FM - RCC
DESCRIPTION:Descargar res 5371 28-09-2015 Desierto 3-2014
URL:https://www.subtel.gob.cl/evento/extracto-de-resolucion-exenta-n-5371-de-28-09-2015-que-declaro-desierto-el-concurso-publico-de-radiodifusion-sonora-correspondiente-al-tercer-cuatrimestre-de-2015-en-fm-rcc/
END:VEVENT
END:VCALENDAR