BEGIN:VCALENDAR
VERSION:2.0
PRODID:-//Subsecretaría de Telecomunicaciones de Chile - ECPv5.12.3//NONSGML v1.0//EN
CALSCALE:GREGORIAN
METHOD:PUBLISH
X-WR-CALNAME:Subsecretaría de Telecomunicaciones de Chile
X-ORIGINAL-URL:https://www.subtel.gob.cl
X-WR-CALDESC:Events for Subsecretaría de Telecomunicaciones de Chile
BEGIN:VTIMEZONE
TZID:America/Santiago
BEGIN:DAYLIGHT
TZOFFSETFROM:-0300
TZOFFSETTO:-0300
TZNAME:-03
DTSTART:20150101T000000
END:DAYLIGHT
END:VTIMEZONE
BEGIN:VEVENT
DTSTART;VALUE=DATE:20151104
DTEND;VALUE=DATE:20151105
DTSTAMP:20260425T224052
CREATED:20151104T133233Z
LAST-MODIFIED:20151104T133233Z
UID:11104-1446595200-1446681599@www.subtel.gob.cl
SUMMARY:Extracto de Resolución Exenta N° 5257 del 2015\, que asigna concesión de radiodifusión sonora para la Localidad de Huasco\, III Región
DESCRIPTION:Descargar Archivo Res Ex N5257_15
URL:https://www.subtel.gob.cl/evento/extracto-de-resolucion-exenta-n-5257-del-2015-que-asigna-concesion-de-radiodifusion-sonora-para-la-localidad-de-huasco-iii-region/
END:VEVENT
END:VCALENDAR