BEGIN:VCALENDAR
VERSION:2.0
PRODID:-//Subsecretaría de Telecomunicaciones de Chile - ECPv5.12.3//NONSGML v1.0//EN
CALSCALE:GREGORIAN
METHOD:PUBLISH
X-WR-CALNAME:Subsecretaría de Telecomunicaciones de Chile
X-ORIGINAL-URL:https://www.subtel.gob.cl
X-WR-CALDESC:Events for Subsecretaría de Telecomunicaciones de Chile
BEGIN:VTIMEZONE
TZID:America/Santiago
BEGIN:DAYLIGHT
TZOFFSETFROM:-0300
TZOFFSETTO:-0300
TZNAME:-03
DTSTART:20150101T000000
END:DAYLIGHT
END:VTIMEZONE
BEGIN:VEVENT
DTSTART;TZID=America/Santiago:20151015T080000
DTEND;TZID=America/Santiago:20151015T170000
DTSTAMP:20260425T103359
CREATED:20151015T140939Z
LAST-MODIFIED:20151015T140939Z
UID:10751-1444896000-1444928400@www.subtel.gob.cl
SUMMARY:Extracto de Resolución Exenta N° 5241 de 17-09-2015\, que declaró desierto el concurso público de Radiodifusión Sonora correspondiente al Primer Cuatrimestre de 2014 - San Pedro de Atacama
DESCRIPTION:Descargar res 5241 17-09-2015 Desierto San Pedro de Atacama
URL:https://www.subtel.gob.cl/evento/extracto-de-resolucion-exenta-n-5241-de-17-09-2015-que-declaro-desierto-el-concurso-publico-de-radiodifusion-sonora-correspondiente-al-primer-cuatrimestre-de-2014-san-pedro-de-atacama/
END:VEVENT
END:VCALENDAR