BEGIN:VCALENDAR
VERSION:2.0
PRODID:-//Subsecretaría de Telecomunicaciones de Chile - ECPv5.12.3//NONSGML v1.0//EN
CALSCALE:GREGORIAN
METHOD:PUBLISH
X-WR-CALNAME:Subsecretaría de Telecomunicaciones de Chile
X-ORIGINAL-URL:https://www.subtel.gob.cl
X-WR-CALDESC:Events for Subsecretaría de Telecomunicaciones de Chile
BEGIN:VTIMEZONE
TZID:America/Santiago
BEGIN:DAYLIGHT
TZOFFSETFROM:-0300
TZOFFSETTO:-0300
TZNAME:-03
DTSTART:20150101T000000
END:DAYLIGHT
END:VTIMEZONE
BEGIN:VEVENT
DTSTART;TZID=America/Santiago:20151014T080000
DTEND;TZID=America/Santiago:20151014T170000
DTSTAMP:20260425T070521
CREATED:20151014T141824Z
LAST-MODIFIED:20151014T141824Z
UID:10732-1444809600-1444842000@www.subtel.gob.cl
SUMMARY:Extracto de Resolución Exenta N° 5003 del 2015\, que asigna concesión de radiodifusión sonora para la comuna de Santa Cruz\, VI Región.
DESCRIPTION:Descargar_Res 5003-2015 Santa Cruz RCC
URL:https://www.subtel.gob.cl/evento/extracto-de-resolucion-exenta-n-5003-del-2015-que-asigna-concesion-de-radiodifusion-sonora-para-la-comuna-de-santa-cruz-vi-region/
END:VEVENT
END:VCALENDAR