BEGIN:VCALENDAR
VERSION:2.0
PRODID:-//Subsecretaría de Telecomunicaciones de Chile - ECPv5.12.3//NONSGML v1.0//EN
CALSCALE:GREGORIAN
METHOD:PUBLISH
X-WR-CALNAME:Subsecretaría de Telecomunicaciones de Chile
X-ORIGINAL-URL:https://www.subtel.gob.cl
X-WR-CALDESC:Events for Subsecretaría de Telecomunicaciones de Chile
BEGIN:VTIMEZONE
TZID:America/Santiago
BEGIN:DAYLIGHT
TZOFFSETFROM:-0300
TZOFFSETTO:-0300
TZNAME:-03
DTSTART:20150101T000000
END:DAYLIGHT
END:VTIMEZONE
BEGIN:VEVENT
DTSTART;VALUE=DATE:20151103
DTEND;VALUE=DATE:20151104
DTSTAMP:20260425T201447
CREATED:20151103T111936Z
LAST-MODIFIED:20151103T111936Z
UID:11094-1446508800-1446595199@www.subtel.gob.cl
SUMMARY:Extracto de Resolución Exenta N° 5.658 de 16.10.2015\, que asigna concesión de radiodifusión sonora en Frecuencia Modulada\, localidad de Ancud.
DESCRIPTION:Descargar Archivo Res 5658-2015
URL:https://www.subtel.gob.cl/evento/extracto-de-resolucion-exenta-n-5-658-de-16-10-2015-que-asigna-concesion-de-radiodifusion-sonora-en-frecuencia-modulada-localidad-de-ancud/
END:VEVENT
END:VCALENDAR