BEGIN:VCALENDAR
VERSION:2.0
PRODID:-//Subsecretaría de Telecomunicaciones de Chile - ECPv5.12.3//NONSGML v1.0//EN
CALSCALE:GREGORIAN
METHOD:PUBLISH
X-WR-CALNAME:Subsecretaría de Telecomunicaciones de Chile
X-ORIGINAL-URL:https://www.subtel.gob.cl
X-WR-CALDESC:Events for Subsecretaría de Telecomunicaciones de Chile
BEGIN:VTIMEZONE
TZID:America/Santiago
BEGIN:DAYLIGHT
TZOFFSETFROM:-0300
TZOFFSETTO:-0300
TZNAME:-03
DTSTART:20150101T000000
END:DAYLIGHT
END:VTIMEZONE
BEGIN:VEVENT
DTSTART;VALUE=DATE:20150831
DTEND;VALUE=DATE:20150901
DTSTAMP:20260423T152711
CREATED:20150831T123347Z
LAST-MODIFIED:20150831T123347Z
UID:10195-1440979200-1441065599@www.subtel.gob.cl
SUMMARY:Extracto de Resolución Exenta N° 3.594 de 03.06.2015\, que declara desierto  el concurso de radiodifusión sonora comunitaria ciudadana para la comuna de Panguipulli.
DESCRIPTION:Descargar Archivo res 3594-2015 panguipulli desierto
URL:https://www.subtel.gob.cl/evento/extracto-de-resolucion-exenta-n-3-594-de-03-06-2015-que-declara-desierto-el-concurso-de-radiodifusion-sonora-comunitaria-ciudadana-para-la-comuna-de-panguipulli/
END:VEVENT
END:VCALENDAR