BEGIN:VCALENDAR
VERSION:2.0
PRODID:-//Subsecretaría de Telecomunicaciones de Chile - ECPv5.12.3//NONSGML v1.0//EN
CALSCALE:GREGORIAN
METHOD:PUBLISH
X-WR-CALNAME:Subsecretaría de Telecomunicaciones de Chile
X-ORIGINAL-URL:https://www.subtel.gob.cl
X-WR-CALDESC:Events for Subsecretaría de Telecomunicaciones de Chile
BEGIN:VTIMEZONE
TZID:America/Santiago
BEGIN:DAYLIGHT
TZOFFSETFROM:-0300
TZOFFSETTO:-0300
TZNAME:-03
DTSTART:20150101T000000
END:DAYLIGHT
END:VTIMEZONE
BEGIN:VEVENT
DTSTART;TZID=America/Santiago:20150825T080000
DTEND;TZID=America/Santiago:20150825T170000
DTSTAMP:20260423T111717
CREATED:20150825T171637Z
LAST-MODIFIED:20150825T171637Z
UID:10142-1440489600-1440522000@www.subtel.gob.cl
SUMMARY:Extracto 15-RD 80030 de solicitud de modificación de concesión de radiodifusión sonora\, XQA-448\, para Alto Hospicio-Iquique\, I Región.
DESCRIPTION:Descargar_Extracto 15-RD80030-XQA-448_Alto Hospicio-Iquique
URL:https://www.subtel.gob.cl/evento/extracto-15-rd-80030-de-solicitud-de-modificacion-de-concesion-de-radiodifusion-sonora-xqa-448-para-alto-hospicio-iquique-i-region/
END:VEVENT
END:VCALENDAR