BEGIN:VCALENDAR
VERSION:2.0
PRODID:-//Subsecretaría de Telecomunicaciones de Chile - ECPv5.12.3//NONSGML v1.0//EN
CALSCALE:GREGORIAN
METHOD:PUBLISH
X-WR-CALNAME:Subsecretaría de Telecomunicaciones de Chile
X-ORIGINAL-URL:https://www.subtel.gob.cl
X-WR-CALDESC:Events for Subsecretaría de Telecomunicaciones de Chile
BEGIN:VTIMEZONE
TZID:America/Santiago
BEGIN:DAYLIGHT
TZOFFSETFROM:-0300
TZOFFSETTO:-0300
TZNAME:-03
DTSTART:20150101T000000
END:DAYLIGHT
END:VTIMEZONE
BEGIN:VEVENT
DTSTART;TZID=America/Santiago:20150914T080000
DTEND;TZID=America/Santiago:20150914T170000
DTSTAMP:20260424T045301
CREATED:20150914T181017Z
LAST-MODIFIED:20150914T181017Z
UID:10466-1442217600-1442250000@www.subtel.gob.cl
SUMMARY:Extracto 15-RD 73835 de solicitud de modificación de concesión de radiodifusión sonora\, XQC-546\, para Constitución\, VII Región.
DESCRIPTION:Descargar_Extracto 15-RD73835-XQC-546_Constitucion
URL:https://www.subtel.gob.cl/evento/extracto-15-rd-73835-de-solicitud-de-modificacion-de-concesion-de-radiodifusion-sonora-xqc-546-para-constitucion-vii-region/
END:VEVENT
END:VCALENDAR