BEGIN:VCALENDAR
VERSION:2.0
PRODID:-//Subsecretaría de Telecomunicaciones de Chile - ECPv5.12.3//NONSGML v1.0//EN
CALSCALE:GREGORIAN
METHOD:PUBLISH
X-WR-CALNAME:Subsecretaría de Telecomunicaciones de Chile
X-ORIGINAL-URL:https://www.subtel.gob.cl
X-WR-CALDESC:Events for Subsecretaría de Telecomunicaciones de Chile
BEGIN:VTIMEZONE
TZID:America/Santiago
BEGIN:DAYLIGHT
TZOFFSETFROM:-0300
TZOFFSETTO:-0300
TZNAME:-03
DTSTART:20150101T000000
END:DAYLIGHT
END:VTIMEZONE
BEGIN:VEVENT
DTSTART;TZID=America/Santiago:20150930T080000
DTEND;TZID=America/Santiago:20150930T170000
DTSTAMP:20260424T222726
CREATED:20150930T174744Z
LAST-MODIFIED:20150930T174744Z
UID:10649-1443600000-1443632400@www.subtel.gob.cl
SUMMARY:Extracto 15-RD 65442 de solicitud de modificación de concesión de radiodifusión sonora\, XQC-379\, para Villa Rivas\, VIII Región.
DESCRIPTION:Descargar_Extracto 15-RD65442-XQC-379_Villa Rivas
URL:https://www.subtel.gob.cl/evento/extracto-15-rd-65442-de-solicitud-de-modificacion-de-concesion-de-radiodifusion-sonora-xqc-379-para-villa-rivas-viii-region/
END:VEVENT
END:VCALENDAR