BEGIN:VCALENDAR
VERSION:2.0
PRODID:-//Subsecretaría de Telecomunicaciones de Chile - ECPv5.12.3//NONSGML v1.0//EN
CALSCALE:GREGORIAN
METHOD:PUBLISH
X-WR-CALNAME:Subsecretaría de Telecomunicaciones de Chile
X-ORIGINAL-URL:https://www.subtel.gob.cl
X-WR-CALDESC:Events for Subsecretaría de Telecomunicaciones de Chile
BEGIN:VTIMEZONE
TZID:America/Santiago
BEGIN:DAYLIGHT
TZOFFSETFROM:-0300
TZOFFSETTO:-0300
TZNAME:-03
DTSTART:20150101T000000
END:DAYLIGHT
END:VTIMEZONE
BEGIN:VEVENT
DTSTART;TZID=America/Santiago:20151102T080000
DTEND;TZID=America/Santiago:20151102T170000
DTSTAMP:20260425T181113
CREATED:20151102T143038Z
LAST-MODIFIED:20151102T143038Z
UID:11086-1446451200-1446483600@www.subtel.gob.cl
SUMMARY:Extracto 14-RD 81335 de solicitud de modificación de concesión de radiodifusión sonora\, XQA-562\, para Los Vilos\, IV Región.
DESCRIPTION:Descargar_Extracto 14-RD81335-XQA-562_Los Vilos
URL:https://www.subtel.gob.cl/evento/extracto-14-rd-81335-de-solicitud-de-modificacion-de-concesion-de-radiodifusion-sonora-xqa-562-para-los-vilos-iv-region/
END:VEVENT
END:VCALENDAR