BEGIN:VCALENDAR
VERSION:2.0
PRODID:-//Subsecretaría de Telecomunicaciones de Chile - ECPv5.12.3//NONSGML v1.0//EN
CALSCALE:GREGORIAN
METHOD:PUBLISH
X-WR-CALNAME:Subsecretaría de Telecomunicaciones de Chile
X-ORIGINAL-URL:https://www.subtel.gob.cl
X-WR-CALDESC:Events for Subsecretaría de Telecomunicaciones de Chile
BEGIN:VTIMEZONE
TZID:America/Santiago
BEGIN:DAYLIGHT
TZOFFSETFROM:-0300
TZOFFSETTO:-0300
TZNAME:-03
DTSTART:20150101T000000
END:DAYLIGHT
END:VTIMEZONE
BEGIN:VEVENT
DTSTART;TZID=America/Santiago:20150824T080000
DTEND;TZID=America/Santiago:20150824T170000
DTSTAMP:20260423T055752
CREATED:20150824T183918Z
LAST-MODIFIED:20150824T183918Z
UID:10118-1440403200-1440435600@www.subtel.gob.cl
SUMMARY:Extracto 14-RD 80506 de solicitud de modificación de concesión de radiodifusión sonora\, XQC-568\, para Marchigüe\, VI Región.
DESCRIPTION:Extracto 14-RD80506-XQC-568_Marchigue
URL:https://www.subtel.gob.cl/evento/extracto-14-rd-80506-de-solicitud-de-modificacion-de-concesion-de-radiodifusion-sonora-xqc-568-para-marchigue-vi-region/
END:VEVENT
END:VCALENDAR