BEGIN:VCALENDAR
VERSION:2.0
PRODID:-//Subsecretaría de Telecomunicaciones de Chile - ECPv5.12.3//NONSGML v1.0//EN
CALSCALE:GREGORIAN
METHOD:PUBLISH
X-WR-CALNAME:Subsecretaría de Telecomunicaciones de Chile
X-ORIGINAL-URL:https://www.subtel.gob.cl
X-WR-CALDESC:Events for Subsecretaría de Telecomunicaciones de Chile
BEGIN:VTIMEZONE
TZID:America/Santiago
BEGIN:DAYLIGHT
TZOFFSETFROM:-0300
TZOFFSETTO:-0300
TZNAME:-03
DTSTART:20150101T000000
END:DAYLIGHT
END:VTIMEZONE
BEGIN:VEVENT
DTSTART;TZID=America/Santiago:20150908T080000
DTEND;TZID=America/Santiago:20150908T170000
DTSTAMP:20260424T012558
CREATED:20150908T164756Z
LAST-MODIFIED:20150908T164756Z
UID:10387-1441699200-1441731600@www.subtel.gob.cl
SUMMARY:Extracto 14-RD 67790 de solicitud de modificación de concesión de radiodifusión sonora\, XQC-587\, para San Rosendo\, VIII Región.
DESCRIPTION:Descargar_Extracto 14-RD67790-XQC-587_San Rosendo
URL:https://www.subtel.gob.cl/evento/extracto-14-rd-67790-de-solicitud-de-modificacion-de-concesion-de-radiodifusion-sonora-xqc-587-para-san-rosendo-viii-region/
END:VEVENT
END:VCALENDAR