BEGIN:VCALENDAR
VERSION:2.0
PRODID:-//Subsecretaría de Telecomunicaciones de Chile - ECPv5.12.3//NONSGML v1.0//EN
CALSCALE:GREGORIAN
METHOD:PUBLISH
X-WR-CALNAME:Subsecretaría de Telecomunicaciones de Chile
X-ORIGINAL-URL:https://www.subtel.gob.cl
X-WR-CALDESC:Events for Subsecretaría de Telecomunicaciones de Chile
BEGIN:VTIMEZONE
TZID:America/Santiago
BEGIN:DAYLIGHT
TZOFFSETFROM:-0300
TZOFFSETTO:-0300
TZNAME:-03
DTSTART:20150101T000000
END:DAYLIGHT
END:VTIMEZONE
BEGIN:VEVENT
DTSTART;TZID=America/Santiago:20150824T080000
DTEND;TZID=America/Santiago:20150824T170000
DTSTAMP:20260423T092506
CREATED:20150824T184516Z
LAST-MODIFIED:20150824T184516Z
UID:10124-1440403200-1440435600@www.subtel.gob.cl
SUMMARY:Extracto 14-RD 135928 de solicitud de modificación de concesión de radiodifusión sonora\, XQD-454\, para Inspector Fernández-San Elías-Victoria\, IX Región.
DESCRIPTION:Descargar_Extracto 14-RD135928-XQD-454_Inspector Fernandez-San Elias
URL:https://www.subtel.gob.cl/evento/extracto-14-rd-135928-de-solicitud-de-modificacion-de-concesion-de-radiodifusion-sonora-xqd-454-para-inspector-fernandez-san-elias-victoria-ix-region/
END:VEVENT
END:VCALENDAR