BEGIN:VCALENDAR
VERSION:2.0
PRODID:-//Subsecretaría de Telecomunicaciones de Chile - ECPv5.12.3//NONSGML v1.0//EN
CALSCALE:GREGORIAN
METHOD:PUBLISH
X-WR-CALNAME:Subsecretaría de Telecomunicaciones de Chile
X-ORIGINAL-URL:https://www.subtel.gob.cl
X-WR-CALDESC:Events for Subsecretaría de Telecomunicaciones de Chile
BEGIN:VTIMEZONE
TZID:America/Santiago
BEGIN:STANDARD
TZOFFSETFROM:-0300
TZOFFSETTO:-0400
TZNAME:-04
DTSTART:20130428T030000
END:STANDARD
BEGIN:DAYLIGHT
TZOFFSETFROM:-0400
TZOFFSETTO:-0300
TZNAME:-03
DTSTART:20130908T040000
END:DAYLIGHT
END:VTIMEZONE
BEGIN:VEVENT
DTSTART;TZID=America/Santiago:20130619T160000
DTEND;TZID=America/Santiago:20130619T170000
DTSTAMP:20260424T111133
CREATED:20150528T192806Z
LAST-MODIFIED:20150528T192806Z
UID:7501-1371657600-1371661200@www.subtel.gob.cl
SUMMARY:Asistir a la Comisión de Transportes y Telecomunicaciones del Senado
DESCRIPTION:Proyecto de ley que crea la Superintendencia de Telecomunicaciones.
URL:https://www.subtel.gob.cl/evento/asistir-a-la-comision-de-transportes-y-telecomunicaciones-del-senado-6/
END:VEVENT
END:VCALENDAR